BEGIN:VCALENDAR
VERSION:2.0
PRODID:-//housingdevelopers.org//NONSGML kigkonsult.se iCalcreator 2.30.10/
 /
CALSCALE:GREGORIAN
METHOD:PUBLISH
UID:f65bc469-a540-4f80-a394-18a863a9d34d
X-WR-CALDESC:To register visit https://www.creditadvisors.org/classes
X-WR-RELCALID:47afaf77608b233a7e36a346b0007066
X-WR-TIMEZONE:America/Chicago
BEGIN:VTIMEZONE
TZID:America/Chicago
BEGIN:STANDARD
TZNAME:CST
DTSTART:20261101T020000
TZOFFSETFROM:-0500
TZOFFSETTO:-0600
RDATE:20271107T020000
END:STANDARD
BEGIN:DAYLIGHT
TZNAME:CDT
DTSTART:20260308T020000
TZOFFSETFROM:-0600
TZOFFSETTO:-0500
RDATE:20270314T020000
RDATE:20280312T020000
END:DAYLIGHT
END:VTIMEZONE
BEGIN:VEVENT
UID:f92288d7-d250-4a7d-a7aa-1fa4e0c42440
DTSTAMP:20260421T191734Z
DESCRIPTION:To register visit https://www.creditadvisors.org/classes
DTSTART;TZID=America/Chicago:20261205T083000
DTEND;TZID=America/Chicago:20261205T163000
LOCATION:Via Zoom
SUMMARY:Homebuyer Education - Credit Advisors Foundation - Omaha - Spanish
END:VEVENT
END:VCALENDAR
