BEGIN:VCALENDAR
VERSION:2.0
PRODID:-//housingdevelopers.org//NONSGML kigkonsult.se iCalcreator 2.30.10/
 /
CALSCALE:GREGORIAN
METHOD:PUBLISH
UID:33713b96-c890-4f40-b57c-b69d28e41ba9
X-WR-CALDESC:Must attend November 17 & 19 from 6:00 pm - 10:00 pm each day.
X-WR-RELCALID:54d92469dd6d45f87de9eb4bfb4f3e2e
X-WR-TIMEZONE:America/Chicago
BEGIN:VTIMEZONE
TZID:America/Chicago
BEGIN:STANDARD
TZNAME:CST
DTSTART:20261101T020000
TZOFFSETFROM:-0500
TZOFFSETTO:-0600
RDATE:20271107T020000
END:STANDARD
BEGIN:DAYLIGHT
TZNAME:CDT
DTSTART:20260308T020000
TZOFFSETFROM:-0600
TZOFFSETTO:-0500
RDATE:20270314T020000
RDATE:20280312T020000
END:DAYLIGHT
END:VTIMEZONE
BEGIN:VEVENT
UID:49e853a3-e306-445f-b7ab-2064df73ffb7
DTSTAMP:20260421T173538Z
DESCRIPTION:Must attend November 17 & 19 from 6:00 pm - 10:00 pm each day.
DTSTART;TZID=America/Chicago:20261117T180000
DTEND;TZID=America/Chicago:20261117T220000
LOCATION:213 South 1st Street\, Norfolk\, NE 68701 US
SUMMARY:Homebuyer Education - NeighborWorks Northeast Nebraska - Norfolk
END:VEVENT
END:VCALENDAR
