BEGIN:VCALENDAR
VERSION:2.0
PRODID:-//housingdevelopers.org//NONSGML kigkonsult.se iCalcreator 2.30.10/
 /
CALSCALE:GREGORIAN
METHOD:PUBLISH
UID:e692c56c-4164-4a63-a491-933838e2c92c
X-WR-CALDESC:To register visit https://www.creditadvisors.org/classes
X-WR-RELCALID:16f985d0228cfa0a858bdcc7208185c5
X-WR-TIMEZONE:America/Chicago
BEGIN:VTIMEZONE
TZID:America/Chicago
BEGIN:STANDARD
TZNAME:CST
DTSTART:20261101T020000
TZOFFSETFROM:-0500
TZOFFSETTO:-0600
RDATE:20271107T020000
END:STANDARD
BEGIN:DAYLIGHT
TZNAME:CDT
DTSTART:20260308T020000
TZOFFSETFROM:-0600
TZOFFSETTO:-0500
RDATE:20270314T020000
RDATE:20280312T020000
END:DAYLIGHT
END:VTIMEZONE
BEGIN:VEVENT
UID:b0617357-9bb5-4319-8d97-0a44f1e12e0f
DTSTAMP:20260421T174459Z
DESCRIPTION:To register visit https://www.creditadvisors.org/classes
DTSTART;TZID=America/Chicago:20261114T083000
DTEND;TZID=America/Chicago:20261114T163000
LOCATION:Via Zoom
SUMMARY:Homebuyer Education - Credit Advisors Foundation - Omaha
END:VEVENT
END:VCALENDAR
