BEGIN:VCALENDAR
VERSION:2.0
PRODID:-//housingdevelopers.org//NONSGML kigkonsult.se iCalcreator 2.30.10/
 /
CALSCALE:GREGORIAN
METHOD:PUBLISH
UID:42c28f1d-a326-4114-b8e7-7b78eb80fcdb
X-WR-CALDESC:Must attend November 10th & 12th from 5:00pm to 9:00pm.
X-WR-RELCALID:94b3d422c3e00944d2188d2e0a544208
X-WR-TIMEZONE:America/Chicago
BEGIN:VTIMEZONE
TZID:America/Chicago
BEGIN:STANDARD
TZNAME:CST
DTSTART:20261101T020000
TZOFFSETFROM:-0500
TZOFFSETTO:-0600
RDATE:20271107T020000
END:STANDARD
BEGIN:DAYLIGHT
TZNAME:CDT
DTSTART:20260308T020000
TZOFFSETFROM:-0600
TZOFFSETTO:-0500
RDATE:20270314T020000
RDATE:20280312T020000
END:DAYLIGHT
END:VTIMEZONE
BEGIN:VEVENT
UID:66325373-c8ba-4ffd-984f-617e65c64443
DTSTAMP:20260421T173743Z
DESCRIPTION:Must attend November 10th & 12th from 5:00pm to 9:00pm.
DTSTART;TZID=America/Chicago:20261110T170000
DTEND;TZID=America/Chicago:20261110T210000
LOCATION:802 4th Street\, Humboldt\, NE 68376 US
SUMMARY:Homebuyer Education - Southeast Nebraska Community Action Partnersh
 ip
END:VEVENT
END:VCALENDAR
