BEGIN:VCALENDAR
VERSION:2.0
PRODID:-//housingdevelopers.org//NONSGML kigkonsult.se iCalcreator 2.30.10/
 /
CALSCALE:GREGORIAN
METHOD:PUBLISH
UID:75998361-7daa-4abc-8d40-f0bd19f8cae8
X-WR-CALDESC:Must attend November 9\,10\,16 & 17 from 6pm - 8pm each day.
X-WR-RELCALID:761deb23ade3663869b4700869cf63f0
X-WR-TIMEZONE:America/Chicago
BEGIN:VTIMEZONE
TZID:America/Chicago
BEGIN:STANDARD
TZNAME:CST
DTSTART:20261101T020000
TZOFFSETFROM:-0500
TZOFFSETTO:-0600
RDATE:20271107T020000
END:STANDARD
BEGIN:DAYLIGHT
TZNAME:CDT
DTSTART:20260308T020000
TZOFFSETFROM:-0600
TZOFFSETTO:-0500
RDATE:20270314T020000
RDATE:20280312T020000
END:DAYLIGHT
END:VTIMEZONE
BEGIN:VEVENT
UID:3183d150-d6f7-49dc-bf66-71550db3b2f9
DTSTAMP:20260421T174249Z
DESCRIPTION:Must attend November 9\,10\,16 & 17 from 6pm - 8pm each day.
DTSTART;TZID=America/Chicago:20261109T180000
DTEND;TZID=America/Chicago:20261109T200000
LOCATION:2530 Q Street\, Lincoln\, NE 68503 US
SUMMARY:Homebuyer Education - NeighborWorks Lincoln
END:VEVENT
END:VCALENDAR
