BEGIN:VCALENDAR
VERSION:2.0
PRODID:-//housingdevelopers.org//NONSGML kigkonsult.se iCalcreator 2.30.10/
 /
CALSCALE:GREGORIAN
METHOD:PUBLISH
UID:90cb6f11-d5e9-4596-9386-0aad591e9100
X-WR-CALDESC:Must attend November 7\,14 from 8:30 am-12:30 pm each day.
X-WR-RELCALID:b7e7378a11f524a6d794b3780288ba8f
X-WR-TIMEZONE:America/Chicago
BEGIN:VTIMEZONE
TZID:America/Chicago
BEGIN:STANDARD
TZNAME:CST
DTSTART:20261101T020000
TZOFFSETFROM:-0500
TZOFFSETTO:-0600
RDATE:20271107T020000
END:STANDARD
BEGIN:DAYLIGHT
TZNAME:CDT
DTSTART:20260308T020000
TZOFFSETFROM:-0600
TZOFFSETTO:-0500
RDATE:20270314T020000
RDATE:20280312T020000
END:DAYLIGHT
END:VTIMEZONE
BEGIN:VEVENT
UID:6c6782e9-769d-4018-8f6d-4266339e2258
DTSTAMP:20260421T174418Z
DESCRIPTION:Must attend November 7\,14 from 8:30 am-12:30 pm each day.
DTSTART;TZID=America/Chicago:20261107T083000
DTEND;TZID=America/Chicago:20261107T123000
LOCATION:2401 Lake St.\, Omaha\, NE 68111 US
SUMMARY:Homebuyer Education - Family Housing Advisory Services
END:VEVENT
END:VCALENDAR
