BEGIN:VCALENDAR
VERSION:2.0
PRODID:-//housingdevelopers.org//NONSGML kigkonsult.se iCalcreator 2.30.10/
 /
CALSCALE:GREGORIAN
METHOD:PUBLISH
UID:974fc3d6-f815-4be9-b4a8-5581e5bafea4
X-WR-CALDESC:
X-WR-RELCALID:7877712246a61b61572473a0599dd8aa
X-WR-TIMEZONE:America/Chicago
BEGIN:VTIMEZONE
TZID:America/Chicago
BEGIN:STANDARD
TZNAME:CST
DTSTART:20251102T020000
TZOFFSETFROM:-0500
TZOFFSETTO:-0600
RDATE:20261101T020000
RDATE:20271107T020000
END:STANDARD
BEGIN:DAYLIGHT
TZNAME:CDT
DTSTART:20260308T020000
TZOFFSETFROM:-0600
TZOFFSETTO:-0500
RDATE:20270314T020000
RDATE:20280312T020000
END:DAYLIGHT
END:VTIMEZONE
BEGIN:VEVENT
UID:e7a7ed8c-ac4e-4444-84ff-2a7b3ce801b8
DTSTAMP:20260421T153931Z
DESCRIPTION:
DTSTART;TZID=America/Chicago:20261017T080000
DTEND;TZID=America/Chicago:20261017T170000
LOCATION:2554 40th Avenue\, Columbus\, NE 68601 US
SUMMARY:Homebuyer Education - NeighborWorks Northeast Nebraska - Columbus
END:VEVENT
END:VCALENDAR
