BEGIN:VCALENDAR
VERSION:2.0
PRODID:-//housingdevelopers.org//NONSGML kigkonsult.se iCalcreator 2.30.10/
 /
CALSCALE:GREGORIAN
METHOD:PUBLISH
UID:f040513e-061f-4e02-ac13-c153e2dffc74
X-WR-CALDESC:Must attend October 14\,15\,21 & 22 from 6pm - 8pm each day.
X-WR-RELCALID:b184e7c85a8048db68b773cf5d5955da
X-WR-TIMEZONE:America/Chicago
BEGIN:VTIMEZONE
TZID:America/Chicago
BEGIN:STANDARD
TZNAME:CST
DTSTART:20251102T020000
TZOFFSETFROM:-0500
TZOFFSETTO:-0600
RDATE:20261101T020000
RDATE:20271107T020000
END:STANDARD
BEGIN:DAYLIGHT
TZNAME:CDT
DTSTART:20260308T020000
TZOFFSETFROM:-0600
TZOFFSETTO:-0500
RDATE:20270314T020000
RDATE:20280312T020000
END:DAYLIGHT
END:VTIMEZONE
BEGIN:VEVENT
UID:8c6f1f49-33c3-4971-919f-2e8c500f561d
DTSTAMP:20260421T152659Z
DESCRIPTION:Must attend October 14\,15\,21 & 22 from 6pm - 8pm each day.
DTSTART;TZID=America/Chicago:20261014T180000
DTEND;TZID=America/Chicago:20261014T200000
LOCATION:2530 Q Street\, Lincoln\, NE 68503 US
SUMMARY:Homebuyer Education - NeighborWorks Lincoln
END:VEVENT
END:VCALENDAR
