BEGIN:VCALENDAR
VERSION:2.0
PRODID:-//housingdevelopers.org//NONSGML kigkonsult.se iCalcreator 2.30.10/
 /
CALSCALE:GREGORIAN
METHOD:PUBLISH
UID:26176af8-1a3f-4262-8469-5040095215b7
X-WR-CALDESC:To register visit https://www.creditadvisors.org/classes
X-WR-RELCALID:ef64337541fceed410a4f18133afe237
X-WR-TIMEZONE:America/Chicago
BEGIN:VTIMEZONE
TZID:America/Chicago
BEGIN:STANDARD
TZNAME:CST
DTSTART:20251102T020000
TZOFFSETFROM:-0500
TZOFFSETTO:-0600
RDATE:20261101T020000
RDATE:20271107T020000
END:STANDARD
BEGIN:DAYLIGHT
TZNAME:CDT
DTSTART:20260308T020000
TZOFFSETFROM:-0600
TZOFFSETTO:-0500
RDATE:20270314T020000
RDATE:20280312T020000
END:DAYLIGHT
END:VTIMEZONE
BEGIN:VEVENT
UID:3bb434d5-c4de-4612-b533-a8291f366cad
DTSTAMP:20260421T134854Z
DESCRIPTION:To register visit https://www.creditadvisors.org/classes
DTSTART;TZID=America/Chicago:20260919T083000
DTEND;TZID=America/Chicago:20260919T163000
LOCATION:Via Zoom
SUMMARY:Homebuyer Education - Credit Advisors Foundation - Omaha
END:VEVENT
END:VCALENDAR
