BEGIN:VCALENDAR
VERSION:2.0
PRODID:-//housingdevelopers.org//NONSGML kigkonsult.se iCalcreator 2.30.10/
 /
CALSCALE:GREGORIAN
METHOD:PUBLISH
UID:273f815b-cee3-48b9-932a-14d1340e89bf
X-WR-CALDESC:Must attend September 15 & 17 from 6:00 pm - 10:00 pm each day
 .
X-WR-RELCALID:853abd49e0faedc8ef005cfda994715d
X-WR-TIMEZONE:America/Chicago
BEGIN:VTIMEZONE
TZID:America/Chicago
BEGIN:STANDARD
TZNAME:CST
DTSTART:20251102T020000
TZOFFSETFROM:-0500
TZOFFSETTO:-0600
RDATE:20261101T020000
RDATE:20271107T020000
END:STANDARD
BEGIN:DAYLIGHT
TZNAME:CDT
DTSTART:20260308T020000
TZOFFSETFROM:-0600
TZOFFSETTO:-0500
RDATE:20270314T020000
RDATE:20280312T020000
END:DAYLIGHT
END:VTIMEZONE
BEGIN:VEVENT
UID:0d287bb0-5556-4674-851f-605fb878a2b7
DTSTAMP:20260421T134944Z
DESCRIPTION:Must attend September 15 & 17 from 6:00 pm - 10:00 pm each day.
DTSTART;TZID=America/Chicago:20260915T180000
DTEND;TZID=America/Chicago:20260915T220000
LOCATION:213 South 1st Street\, Norfolk\, NE 68701 US
SUMMARY:Homebuyer Education - NeighborWorks Northeast Nebraska - Norfolk
END:VEVENT
END:VCALENDAR
