BEGIN:VCALENDAR
VERSION:2.0
PRODID:-//housingdevelopers.org//NONSGML kigkonsult.se iCalcreator 2.30.10/
 /
CALSCALE:GREGORIAN
METHOD:PUBLISH
UID:35fb7f2b-8f81-4f68-bfef-d0fc278f8868
X-WR-CALDESC:Must attend September 14\,15\,21 from 6:00 pm-9:00 pm each day
 .
X-WR-RELCALID:956da9bbdcd7789df0b5504bfb123514
X-WR-TIMEZONE:America/Chicago
BEGIN:VTIMEZONE
TZID:America/Chicago
BEGIN:STANDARD
TZNAME:CST
DTSTART:20251102T020000
TZOFFSETFROM:-0500
TZOFFSETTO:-0600
RDATE:20261101T020000
RDATE:20271107T020000
END:STANDARD
BEGIN:DAYLIGHT
TZNAME:CDT
DTSTART:20260308T020000
TZOFFSETFROM:-0600
TZOFFSETTO:-0500
RDATE:20270314T020000
RDATE:20280312T020000
END:DAYLIGHT
END:VTIMEZONE
BEGIN:VEVENT
UID:96abe641-a891-4179-a1d8-7698648a5345
DTSTAMP:20260421T135728Z
DESCRIPTION:Must attend September 14\,15\,21 from 6:00 pm-9:00 pm each day.
DTSTART;TZID=America/Chicago:20260914T180000
DTEND;TZID=America/Chicago:20260914T210000
LOCATION:1415 Avenue J. \, #4\, Council Bluffs\, IA 51501 US
SUMMARY:Homebuyer Education - Family Housing Advisory Services
END:VEVENT
END:VCALENDAR
