BEGIN:VCALENDAR
VERSION:2.0
PRODID:-//housingdevelopers.org//NONSGML kigkonsult.se iCalcreator 2.30.10/
 /
CALSCALE:GREGORIAN
METHOD:PUBLISH
UID:1d98113f-50c5-472c-ae26-6f5381c9235e
X-WR-CALDESC:To register visit https://www.creditadvisors.org/classes
X-WR-RELCALID:b3ae5a1f17785cb885845db05e4ba7b1
X-WR-TIMEZONE:America/Chicago
BEGIN:VTIMEZONE
TZID:America/Chicago
BEGIN:STANDARD
TZNAME:CST
DTSTART:20251102T020000
TZOFFSETFROM:-0500
TZOFFSETTO:-0600
RDATE:20261101T020000
RDATE:20271107T020000
END:STANDARD
BEGIN:DAYLIGHT
TZNAME:CDT
DTSTART:20260308T020000
TZOFFSETFROM:-0600
TZOFFSETTO:-0500
RDATE:20270314T020000
RDATE:20280312T020000
END:DAYLIGHT
END:VTIMEZONE
BEGIN:VEVENT
UID:ea31487f-2b00-478a-9e38-1b83aa5f03d3
DTSTAMP:20260421T133947Z
DESCRIPTION:To register visit https://www.creditadvisors.org/classes
DTSTART;TZID=America/Chicago:20260912T083000
DTEND;TZID=America/Chicago:20260912T163000
LOCATION:Via Zoom
SUMMARY:Homebuyer Education - Credit Advisors Foundation - Zoom - Spanish
END:VEVENT
END:VCALENDAR
