BEGIN:VCALENDAR
VERSION:2.0
PRODID:-//housingdevelopers.org//NONSGML kigkonsult.se iCalcreator 2.30.10/
 /
CALSCALE:GREGORIAN
METHOD:PUBLISH
UID:7bf1202e-24fa-40d7-ab58-e23f004e3355
X-WR-CALDESC:Must attend September 2nd & 3rd from 5:00pm to 9:00pm.
X-WR-RELCALID:3cb2f8b867b3e9802ec41838d1fbe0aa
X-WR-TIMEZONE:America/Chicago
BEGIN:VTIMEZONE
TZID:America/Chicago
BEGIN:STANDARD
TZNAME:CST
DTSTART:20251102T020000
TZOFFSETFROM:-0500
TZOFFSETTO:-0600
RDATE:20261101T020000
RDATE:20271107T020000
END:STANDARD
BEGIN:DAYLIGHT
TZNAME:CDT
DTSTART:20260308T020000
TZOFFSETFROM:-0600
TZOFFSETTO:-0500
RDATE:20270314T020000
END:DAYLIGHT
END:VTIMEZONE
BEGIN:VEVENT
UID:718fdea1-d8ba-4088-ae33-7291ebf980b4
DTSTAMP:20260421T134433Z
DESCRIPTION:Must attend September 2nd & 3rd from 5:00pm to 9:00pm.
DTSTART;TZID=America/Chicago:20260902T170000
DTEND;TZID=America/Chicago:20260902T210000
LOCATION:802 4th Street\, Humboldt\, NE 68376 US
SUMMARY:Homebuyer Education - Southeast Nebraska Community Action Partnersh
 ip
END:VEVENT
END:VCALENDAR
