BEGIN:VCALENDAR
VERSION:2.0
PRODID:-//housingdevelopers.org//NONSGML kigkonsult.se iCalcreator 2.30.10/
 /
CALSCALE:GREGORIAN
METHOD:PUBLISH
UID:b8f2a626-652a-4e34-beed-9b74d0d023ab
X-WR-CALDESC:
X-WR-RELCALID:e303f178367e06f7e3712a4abc81cc76
X-WR-TIMEZONE:America/Chicago
BEGIN:VTIMEZONE
TZID:America/Chicago
BEGIN:STANDARD
TZNAME:CST
DTSTART:20251102T020000
TZOFFSETFROM:-0500
TZOFFSETTO:-0600
RDATE:20261101T020000
RDATE:20271107T020000
END:STANDARD
BEGIN:DAYLIGHT
TZNAME:CDT
DTSTART:20260308T020000
TZOFFSETFROM:-0600
TZOFFSETTO:-0500
RDATE:20270314T020000
END:DAYLIGHT
END:VTIMEZONE
BEGIN:VEVENT
UID:5d1cf2d4-8860-4161-81c0-4af3ebf4f086
DTSTAMP:20260421T120557Z
DESCRIPTION:
DTSTART;TZID=America/Chicago:20260815T090000
DTEND;TZID=America/Chicago:20260815T170000
LOCATION:802 4th Street\, Humboldt\, NE 68376 US
SUMMARY:Homebuyer Education - Southeast Nebraska Community Action Partnersh
 ip
END:VEVENT
END:VCALENDAR
