BEGIN:VCALENDAR
VERSION:2.0
PRODID:-//housingdevelopers.org//NONSGML kigkonsult.se iCalcreator 2.30.10/
 /
CALSCALE:GREGORIAN
METHOD:PUBLISH
UID:847cf6eb-b673-473e-945b-0989f4467afe
X-WR-CALDESC:Must attend August 12\,13\,19 & 20 from 6pm - 8pm each day.
X-WR-RELCALID:24ac3735916f0784d1707c0bbb0f2724
X-WR-TIMEZONE:America/Chicago
BEGIN:VTIMEZONE
TZID:America/Chicago
BEGIN:STANDARD
TZNAME:CST
DTSTART:20251102T020000
TZOFFSETFROM:-0500
TZOFFSETTO:-0600
RDATE:20261101T020000
RDATE:20271107T020000
END:STANDARD
BEGIN:DAYLIGHT
TZNAME:CDT
DTSTART:20260308T020000
TZOFFSETFROM:-0600
TZOFFSETTO:-0500
RDATE:20270314T020000
END:DAYLIGHT
END:VTIMEZONE
BEGIN:VEVENT
UID:225014f4-02c5-4190-a437-d6fbb022e48d
DTSTAMP:20260421T120402Z
DESCRIPTION:Must attend August 12\,13\,19 & 20 from 6pm - 8pm each day.
DTSTART;TZID=America/Chicago:20260812T180000
DTEND;TZID=America/Chicago:20260812T200000
LOCATION:2530 Q Street\, Lincoln\, NE 68503 US
SUMMARY:Homebuyer Education - NeighborWorks Lincoln
END:VEVENT
END:VCALENDAR
