BEGIN:VCALENDAR
VERSION:2.0
PRODID:-//housingdevelopers.org//NONSGML kigkonsult.se iCalcreator 2.30.10/
 /
CALSCALE:GREGORIAN
METHOD:PUBLISH
UID:0b166bf9-4a1e-418f-813b-4b176e56aa8d
X-WR-CALDESC:Must attend July 11 from 8:00 am - 5 pm.
X-WR-RELCALID:3c1a009ebc208cc612a51c28e20f297f
X-WR-TIMEZONE:America/Chicago
BEGIN:VTIMEZONE
TZID:America/Chicago
BEGIN:STANDARD
TZNAME:CST
DTSTART:20251102T020000
TZOFFSETFROM:-0500
TZOFFSETTO:-0600
RDATE:20261101T020000
RDATE:20271107T020000
END:STANDARD
BEGIN:DAYLIGHT
TZNAME:CDT
DTSTART:20260308T020000
TZOFFSETFROM:-0600
TZOFFSETTO:-0500
RDATE:20270314T020000
END:DAYLIGHT
END:VTIMEZONE
BEGIN:VEVENT
UID:06f59c40-dbca-465a-98fc-6935c5770ac9
DTSTAMP:20260423T105155Z
DESCRIPTION:Must attend July 11 from 8:00 am - 5 pm.
DTSTART;TZID=America/Chicago:20260711T080000
DTEND;TZID=America/Chicago:20260711T170000
LOCATION:2401 Lake St.\, Omaha\, NE 68111 US
SUMMARY:Homebuyer Education - Family Housing Advisory Services
END:VEVENT
END:VCALENDAR
