BEGIN:VCALENDAR
VERSION:2.0
PRODID:-//housingdevelopers.org//NONSGML kigkonsult.se iCalcreator 2.30.10/
 /
CALSCALE:GREGORIAN
METHOD:PUBLISH
UID:9e7d21a8-8fba-4799-9c2e-3d4defdb1a6a
X-WR-CALDESC:To register visit https://www.creditadvisors.org/classes
X-WR-RELCALID:fafce78843a8685c46379ad1a871ebfe
X-WR-TIMEZONE:America/Chicago
BEGIN:VTIMEZONE
TZID:America/Chicago
BEGIN:STANDARD
TZNAME:CST
DTSTART:20251102T020000
TZOFFSETFROM:-0500
TZOFFSETTO:-0600
RDATE:20261101T020000
END:STANDARD
BEGIN:DAYLIGHT
TZNAME:CDT
DTSTART:20250309T020000
TZOFFSETFROM:-0600
TZOFFSETTO:-0500
RDATE:20260308T020000
RDATE:20270314T020000
END:DAYLIGHT
END:VTIMEZONE
BEGIN:VEVENT
UID:42eddf8f-51e3-482a-bbab-8c9888382fd7
DTSTAMP:20260421T085021Z
DESCRIPTION:To register visit https://www.creditadvisors.org/classes
DTSTART;TZID=America/Chicago:20260228T083000
DTEND;TZID=America/Chicago:20260228T163000
LOCATION:Via Zoom
SUMMARY:Homebuyer Education - Credit Advisors Foundation - Omaha - Spanish
END:VEVENT
END:VCALENDAR
