BEGIN:VCALENDAR
VERSION:2.0
PRODID:-//housingdevelopers.org//NONSGML kigkonsult.se iCalcreator 2.30.10/
 /
CALSCALE:GREGORIAN
METHOD:PUBLISH
UID:90694100-5026-4486-8420-21294370de36
X-WR-CALDESC:
X-WR-RELCALID:7141bd97262928d21c1109796cc7bd71
X-WR-TIMEZONE:America/Chicago
BEGIN:VTIMEZONE
TZID:America/Chicago
BEGIN:STANDARD
TZNAME:CST
DTSTART:20251102T020000
TZOFFSETFROM:-0500
TZOFFSETTO:-0600
RDATE:20261101T020000
END:STANDARD
BEGIN:DAYLIGHT
TZNAME:CDT
DTSTART:20250309T020000
TZOFFSETFROM:-0600
TZOFFSETTO:-0500
RDATE:20260308T020000
RDATE:20270314T020000
END:DAYLIGHT
END:VTIMEZONE
BEGIN:VEVENT
UID:2f0d4d5e-563e-4e51-834f-3d055549cc2d
DTSTAMP:20260419T125336Z
DESCRIPTION:
DTSTART;TZID=America/Chicago:20260221T080000
DTEND;TZID=America/Chicago:20260221T170000
LOCATION:2554 40th Avenue\, Columbus\, NE 68601 US
SUMMARY:Homebuyer Education - NeighborWorks Northeast Nebraska - Columbus
END:VEVENT
END:VCALENDAR
