BEGIN:VCALENDAR
VERSION:2.0
PRODID:-//housingdevelopers.org//NONSGML kigkonsult.se iCalcreator 2.30.10/
 /
CALSCALE:GREGORIAN
METHOD:PUBLISH
UID:371ddc80-95ed-4080-abed-3dca6f73161a
X-WR-CALDESC:
X-WR-RELCALID:124426ce31ad3fac481a0b3c99306fdd
X-WR-TIMEZONE:America/Chicago
BEGIN:VTIMEZONE
TZID:America/Chicago
BEGIN:STANDARD
TZNAME:CST
DTSTART:20251102T020000
TZOFFSETFROM:-0500
TZOFFSETTO:-0600
RDATE:20261101T020000
END:STANDARD
BEGIN:DAYLIGHT
TZNAME:CDT
DTSTART:20250309T020000
TZOFFSETFROM:-0600
TZOFFSETTO:-0500
RDATE:20260308T020000
RDATE:20270314T020000
END:DAYLIGHT
END:VTIMEZONE
BEGIN:VEVENT
UID:c2fdd7d2-b0ac-4775-abf3-ac2abbcc6a05
DTSTAMP:20260421T090947Z
DESCRIPTION:
DTSTART;TZID=America/Chicago:20260214T090000
DTEND;TZID=America/Chicago:20260214T170000
LOCATION:802 4th Street\, Humboldt\, NE 68376 US
SUMMARY:Homebuyer Education - Southeast Nebraska Community Action Partnersh
 ip
END:VEVENT
END:VCALENDAR
