BEGIN:VCALENDAR
VERSION:2.0
PRODID:-//housingdevelopers.org//NONSGML kigkonsult.se iCalcreator 2.30.10/
 /
CALSCALE:GREGORIAN
METHOD:PUBLISH
UID:67203536-c7bb-4018-b539-214f53032bbb
X-WR-CALDESC:Must attend February 11\,12\,18 & 19 from 6pm - 8pm each day.
X-WR-RELCALID:31e273d1a36c71f75a3a6844290832b3
X-WR-TIMEZONE:America/Chicago
BEGIN:VTIMEZONE
TZID:America/Chicago
BEGIN:STANDARD
TZNAME:CST
DTSTART:20251102T020000
TZOFFSETFROM:-0500
TZOFFSETTO:-0600
RDATE:20261101T020000
END:STANDARD
BEGIN:DAYLIGHT
TZNAME:CDT
DTSTART:20250309T020000
TZOFFSETFROM:-0600
TZOFFSETTO:-0500
RDATE:20260308T020000
RDATE:20270314T020000
END:DAYLIGHT
END:VTIMEZONE
BEGIN:VEVENT
UID:e0d650d4-73a9-4916-915e-9e717c9ca66f
DTSTAMP:20260421T090455Z
DESCRIPTION:Must attend February 11\,12\,18 & 19 from 6pm - 8pm each day.
DTSTART;TZID=America/Chicago:20260211T180000
DTEND;TZID=America/Chicago:20260211T200000
LOCATION:2530 Q Street\, Lincoln\, NE 68503 US
SUMMARY:Homebuyer Education - NeighborWorks Lincoln
END:VEVENT
END:VCALENDAR
