BEGIN:VCALENDAR
VERSION:2.0
PRODID:-//housingdevelopers.org//NONSGML kigkonsult.se iCalcreator 2.30.10/
 /
CALSCALE:GREGORIAN
METHOD:PUBLISH
UID:ff61c709-b052-42b4-b26e-5e09db9b7ee5
X-WR-CALDESC:Must attend January 24\,31 from 8:30 am-12:30 pm each day.
X-WR-RELCALID:d5c0af2ea91fe4e70d9988e3865571a0
X-WR-TIMEZONE:America/Chicago
BEGIN:VTIMEZONE
TZID:America/Chicago
BEGIN:STANDARD
TZNAME:CST
DTSTART:20251102T020000
TZOFFSETFROM:-0500
TZOFFSETTO:-0600
RDATE:20261101T020000
END:STANDARD
BEGIN:DAYLIGHT
TZNAME:CDT
DTSTART:20250309T020000
TZOFFSETFROM:-0600
TZOFFSETTO:-0500
RDATE:20260308T020000
RDATE:20270314T020000
END:DAYLIGHT
END:VTIMEZONE
BEGIN:VEVENT
UID:70237766-9b74-4d22-a7a5-90558000b725
DTSTAMP:20260421T102058Z
DESCRIPTION:Must attend January 24\,31 from 8:30 am-12:30 pm each day.
DTSTART;TZID=America/Chicago:20260124T083000
DTEND;TZID=America/Chicago:20260124T123000
LOCATION:Virtual
SUMMARY:Homebuyer Education - Family Housing Advisory Services
END:VEVENT
END:VCALENDAR
