BEGIN:VCALENDAR
VERSION:2.0
PRODID:-//housingdevelopers.org//NONSGML kigkonsult.se iCalcreator 2.30.10/
 /
CALSCALE:GREGORIAN
METHOD:PUBLISH
UID:9db87db7-35f9-4970-9cf3-3c7ae0bb04b8
X-WR-CALDESC:Must attend January 14\,15\,21 & 22 from 6pm - 8pm each day.
X-WR-RELCALID:850bd1db88bb5613f345e10298773563
X-WR-TIMEZONE:America/Chicago
BEGIN:VTIMEZONE
TZID:America/Chicago
BEGIN:STANDARD
TZNAME:CST
DTSTART:20251102T020000
TZOFFSETFROM:-0500
TZOFFSETTO:-0600
RDATE:20261101T020000
END:STANDARD
BEGIN:DAYLIGHT
TZNAME:CDT
DTSTART:20250309T020000
TZOFFSETFROM:-0600
TZOFFSETTO:-0500
RDATE:20260308T020000
RDATE:20270314T020000
END:DAYLIGHT
END:VTIMEZONE
BEGIN:VEVENT
UID:f13dc480-4969-4493-88d2-80500997ae57
DTSTAMP:20260419T115303Z
DESCRIPTION:Must attend January 14\,15\,21 & 22 from 6pm - 8pm each day.
DTSTART;TZID=America/Chicago:20260114T180000
DTEND;TZID=America/Chicago:20260114T200000
LOCATION:2530 Q Street\, Lincoln\, NE 68503 US
SUMMARY:Homebuyer Education - NeighborWorks Lincoln
END:VEVENT
END:VCALENDAR
