BEGIN:VCALENDAR
VERSION:2.0
PRODID:-//housingdevelopers.org//NONSGML kigkonsult.se iCalcreator 2.30.10/
 /
CALSCALE:GREGORIAN
METHOD:PUBLISH
UID:99d6e9ca-a191-4537-a55a-2abd5a321194
X-WR-CALDESC:To register visit https://www.creditadvisors.org/classes
X-WR-RELCALID:d5131627d0faec02e927978b03e7149e
X-WR-TIMEZONE:America/Chicago
BEGIN:VTIMEZONE
TZID:America/Chicago
BEGIN:STANDARD
TZNAME:CST
DTSTART:20251102T020000
TZOFFSETFROM:-0500
TZOFFSETTO:-0600
RDATE:20261101T020000
END:STANDARD
BEGIN:DAYLIGHT
TZNAME:CDT
DTSTART:20250309T020000
TZOFFSETFROM:-0600
TZOFFSETTO:-0500
RDATE:20260308T020000
RDATE:20270314T020000
END:DAYLIGHT
END:VTIMEZONE
BEGIN:VEVENT
UID:5e480bbd-149b-4a2e-95b2-5e7ef477eef3
DTSTAMP:20260419T115404Z
DESCRIPTION:To register visit https://www.creditadvisors.org/classes
DTSTART;TZID=America/Chicago:20260110T080000
DTEND;TZID=America/Chicago:20260110T160000
LOCATION:Via Zoom
SUMMARY:Homebuyer Education - Credit Advisors Foundation - Zoom
END:VEVENT
END:VCALENDAR
