BEGIN:VCALENDAR
VERSION:2.0
PRODID:-//housingdevelopers.org//NONSGML kigkonsult.se iCalcreator 2.30.10/
 /
CALSCALE:GREGORIAN
METHOD:PUBLISH
UID:59c0539f-1a70-4979-a3d1-a8f6f0b09e76
X-WR-CALDESC:We will be hosting a webinar presentation on the basics of the
  Nebraska Unicameral on Monday\, January 5th at 2:00PM.\n\nWe are pleased 
 to welcome Dr. Erin Feichtinger as our presenter! This will be an opportun
 ity to learn or refresh yourself on how our Nebraska State Legislature wor
 ks as we prepare for the 2026 session to begin on Wednesday\, January 7th!
  \n\nRegistration will be open until NOON on January 5th. \n
X-WR-RELCALID:78d5835353b9fc397e1d1038751e4028
X-WR-TIMEZONE:America/Chicago
BEGIN:VTIMEZONE
TZID:America/Chicago
BEGIN:STANDARD
TZNAME:CST
DTSTART:20251102T020000
TZOFFSETFROM:-0500
TZOFFSETTO:-0600
RDATE:20261101T020000
END:STANDARD
BEGIN:DAYLIGHT
TZNAME:CDT
DTSTART:20250309T020000
TZOFFSETFROM:-0600
TZOFFSETTO:-0500
RDATE:20260308T020000
RDATE:20270314T020000
END:DAYLIGHT
END:VTIMEZONE
BEGIN:VEVENT
UID:5219e91a-2002-4e48-aa22-29190527c802
DTSTAMP:20260421T103803Z
DESCRIPTION:We will be hosting a webinar presentation on the basics of the 
 Nebraska Unicameral on Monday\, January 5th at 2:00PM.\n\nWe are pleased t
 o welcome Dr. Erin Feichtinger as our presenter! This will be an opportuni
 ty to learn or refresh yourself on how our Nebraska State Legislature work
 s as we prepare for the 2026 session to begin on Wednesday\, January 7th! 
 \n\nRegistration will be open until NOON on January 5th. \n
DTSTART;TZID=America/Chicago:20260105T140000
DTEND;TZID=America/Chicago:20260105T150000
LOCATION:This is a Zoom event.  The Zoom link will be e-mailed to you once 
 your registration has been submitted.
SUMMARY:Nebraska Unicameral 101 for NHDA Members
END:VEVENT
END:VCALENDAR
