BEGIN:VCALENDAR
VERSION:2.0
PRODID:-//housingdevelopers.org//NONSGML kigkonsult.se iCalcreator 2.30.10/
 /
CALSCALE:GREGORIAN
METHOD:PUBLISH
UID:c16eac09-eb14-44d9-94ac-2b9e557f570f
X-WR-CALDESC:Nebraska RentWise is a program to help renters obtain and keep
  rental housing and to be successful renters through education.  The curri
 culum takes an active-learning approach and stresses tenant responsibility
 .\n\nYou MUST attend the entire training in order to become a certified tr
 ainer. \n\nModules that will be presented\n1. Communication & Conflict Res
 olution\n2. Managing Your Money\n3. Finding a Place to Call Home\n4. Getti
 ng Through the Rental Process\n5. Taking Care of a Home\n6. When You Move 
 Out\n\nRegistration\nRegistration Fee includes:\n\nRenter's Workbook/Organ
 izer\nFacilitator's Manual\nTraining Materials\nRentWise Certificate\nLunc
 h (November 12th Only)\n\n$100 Registration Fee - Re-Certification - NHDA 
 Member\n$125 Registration Fee - New Trainer - NHDA Member\n$125 Registrati
 on Fee - Re-Certification  \n$150 Registration Fee - New Trainer\nIf you d
 id not teach at least one module of a full six module series in 2024 you w
 ill be required to get re-certified. \nAll registration fees need to be re
 ceived by November 5\, 2025 by the Nebraska Housing Developers Association
 \, 3883 Normal Blvd\, Suite 102\, Lincoln\, NE 68506.\n\nCancellation: No 
 refunds will be made after November 5\, 2025.\n\nNovember 12th 9:00am-4:00
 pm\nNovember 13th 9:00am-3:30pm\n \n\nYou MUST attend the entire training 
 in order to become a certified trainer.     \n
X-WR-RELCALID:15e28f97fff5b8260a522989f3eca8dc
X-WR-TIMEZONE:America/Chicago
BEGIN:VTIMEZONE
TZID:America/Chicago
BEGIN:STANDARD
TZNAME:CST
DTSTART:20251102T020000
TZOFFSETFROM:-0500
TZOFFSETTO:-0600
RDATE:20261101T020000
END:STANDARD
BEGIN:DAYLIGHT
TZNAME:CDT
DTSTART:20250309T020000
TZOFFSETFROM:-0600
TZOFFSETTO:-0500
RDATE:20260308T020000
RDATE:20270314T020000
END:DAYLIGHT
END:VTIMEZONE
BEGIN:VEVENT
UID:dccaf054-f8b8-4857-b26e-e1ccff525eb1
DTSTAMP:20260419T153617Z
DESCRIPTION:Nebraska RentWise is a program to help renters obtain and keep 
 rental housing and to be successful renters through education.  The curric
 ulum takes an active-learning approach and stresses tenant responsibility.
 \n\nYou MUST attend the entire training in order to become a certified tra
 iner. \n\nModules that will be presented\n1. Communication & Conflict Reso
 lution\n2. Managing Your Money\n3. Finding a Place to Call Home\n4. Gettin
 g Through the Rental Process\n5. Taking Care of a Home\n6. When You Move O
 ut\n\nRegistration\nRegistration Fee includes:\n\nRenter's Workbook/Organi
 zer\nFacilitator's Manual\nTraining Materials\nRentWise Certificate\nLunch
  (November 12th Only)\n\n$100 Registration Fee - Re-Certification - NHDA M
 ember\n$125 Registration Fee - New Trainer - NHDA Member\n$125 Registratio
 n Fee - Re-Certification  \n$150 Registration Fee - New Trainer\nIf you di
 d not teach at least one module of a full six module series in 2024 you wi
 ll be required to get re-certified. \nAll registration fees need to be rec
 eived by November 5\, 2025 by the Nebraska Housing Developers Association\
 , 3883 Normal Blvd\, Suite 102\, Lincoln\, NE 68506.\n\nCancellation: No r
 efunds will be made after November 5\, 2025.\n\nNovember 12th 9:00am-4:00p
 m\nNovember 13th 9:00am-3:30pm\n \n\nYou MUST attend the entire training i
 n order to become a certified trainer.     \n
DTSTART;TZID=America/Chicago:20251112T090000
DTEND;TZID=America/Chicago:20251113T153000
LOCATION:Nebraska Extension in Lancaster County - 444 Cherrycreek Rd Suite 
 A\, Lincoln\, NE 68528
SUMMARY:RentWise Train the Trainer Event - Lincoln
END:VEVENT
END:VCALENDAR
