BEGIN:VCALENDAR
VERSION:2.0
PRODID:-//housingdevelopers.org//NONSGML kigkonsult.se iCalcreator 2.30.10/
 /
CALSCALE:GREGORIAN
METHOD:PUBLISH
UID:d1fcfb91-0f28-4129-89f8-8c6d2146c201
X-WR-CALDESC:
X-WR-RELCALID:92007bcba8fd809a9e7db05a6dea65b5
X-WR-TIMEZONE:America/Chicago
BEGIN:VTIMEZONE
TZID:America/Chicago
BEGIN:STANDARD
TZNAME:CST
DTSTART:20201101T020000
TZOFFSETFROM:-0500
TZOFFSETTO:-0600
RDATE:20211107T020000
RDATE:20221106T020000
END:STANDARD
BEGIN:DAYLIGHT
TZNAME:CDT
DTSTART:20210314T020000
TZOFFSETFROM:-0600
TZOFFSETTO:-0500
RDATE:20220313T020000
END:DAYLIGHT
END:VTIMEZONE
BEGIN:VEVENT
UID:565422b6-e7ec-47f0-bc6c-a199eca1566b
DTSTAMP:20260422T141236Z
DESCRIPTION:
DTSTART;TZID=America/Chicago:20210612T080000
DTEND;TZID=America/Chicago:20210612T170000
LOCATION:Housing Authority Community Room - 2554 40th Ave - Columbus
SUMMARY:NeighborWorks Northeast Nebraska
END:VEVENT
END:VCALENDAR
