BEGIN:VCALENDAR
VERSION:2.0
PRODID:-//housingdevelopers.org//NONSGML kigkonsult.se iCalcreator 2.30.10/
 /
CALSCALE:GREGORIAN
METHOD:PUBLISH
UID:fc0d8ee4-f79f-4cfb-92b5-f1ba2eb664de
X-WR-CALDESC:Must Attend September 13th & 15th
X-WR-RELCALID:18618e455a7bb4a78ac85aebee9c2bf0
X-WR-TIMEZONE:America/Chicago
BEGIN:VTIMEZONE
TZID:America/Chicago
BEGIN:STANDARD
TZNAME:CST
DTSTART:20151101T020000
TZOFFSETFROM:-0500
TZOFFSETTO:-0600
RDATE:20161106T020000
RDATE:20171105T020000
END:STANDARD
BEGIN:DAYLIGHT
TZNAME:CDT
DTSTART:20160313T020000
TZOFFSETFROM:-0600
TZOFFSETTO:-0500
RDATE:20170312T020000
RDATE:20180311T020000
END:DAYLIGHT
END:VTIMEZONE
BEGIN:VEVENT
UID:63b619c3-f4f2-40f0-83e2-df60d2b3d042
DTSTAMP:20260423T085541Z
DESCRIPTION:Must Attend September 13th & 15th
DTSTART;TZID=America/Chicago:20160915T170000
DTEND;TZID=America/Chicago:20160915T213000
LOCATION:Tekamah
SUMMARY:Three Rivers Housing Development Corporation
END:VEVENT
END:VCALENDAR
