BEGIN:VCALENDAR
VERSION:2.0
PRODID:-//housingdevelopers.org//NONSGML kigkonsult.se iCalcreator 2.30.10/
 /
CALSCALE:GREGORIAN
METHOD:PUBLISH
UID:be251881-7538-4354-9184-c65a85431a29
X-WR-CALDESC:Must attend September 12\, 14\, 19 & 21.
X-WR-RELCALID:c7b716ef4fc1c6a4d8dcfb8ab5ae8db5
X-WR-TIMEZONE:America/Chicago
BEGIN:VTIMEZONE
TZID:America/Chicago
BEGIN:STANDARD
TZNAME:CST
DTSTART:20151101T020000
TZOFFSETFROM:-0500
TZOFFSETTO:-0600
RDATE:20161106T020000
RDATE:20171105T020000
END:STANDARD
BEGIN:DAYLIGHT
TZNAME:CDT
DTSTART:20160313T020000
TZOFFSETFROM:-0600
TZOFFSETTO:-0500
RDATE:20170312T020000
RDATE:20180311T020000
END:DAYLIGHT
END:VTIMEZONE
BEGIN:VEVENT
UID:c015ba4b-7e34-4fc8-bc10-7f77d8bfef1b
DTSTAMP:20260421T105704Z
DESCRIPTION:Must attend September 12\, 14\, 19 & 21.
DTSTART;TZID=America/Chicago:20160912T180000
DTEND;TZID=America/Chicago:20160912T200000
LOCATION:2240 Q Street - Lincoln
SUMMARY:NeighborWorks Lincoln
END:VEVENT
END:VCALENDAR
