BEGIN:VCALENDAR
VERSION:2.0
PRODID:-//housingdevelopers.org//NONSGML kigkonsult.se iCalcreator 2.30.10/
 /
CALSCALE:GREGORIAN
METHOD:PUBLISH
UID:bb02810b-23a0-4ff4-9870-da85b9489341
X-WR-CALDESC:
X-WR-RELCALID:037fefec63ea421416690f968ae81c9b
X-WR-TIMEZONE:America/Chicago
BEGIN:VTIMEZONE
TZID:America/Chicago
BEGIN:STANDARD
TZNAME:CST
DTSTART:20151101T020000
TZOFFSETFROM:-0500
TZOFFSETTO:-0600
RDATE:20161106T020000
RDATE:20171105T020000
END:STANDARD
BEGIN:DAYLIGHT
TZNAME:CDT
DTSTART:20160313T020000
TZOFFSETFROM:-0600
TZOFFSETTO:-0500
RDATE:20170312T020000
END:DAYLIGHT
END:VTIMEZONE
BEGIN:VEVENT
UID:2ab591b4-5279-417b-aad1-f13c96fdb749
DTSTAMP:20260422T105415Z
DESCRIPTION:
DTSTART;TZID=America/Chicago:20160819T090000
DTEND;TZID=America/Chicago:20160819T170000
LOCATION:1811 W 2nd Street\, Suite 480 - Grand Island
SUMMARY:Housing Development Corporation
END:VEVENT
END:VCALENDAR
