BEGIN:VCALENDAR
VERSION:2.0
PRODID:-//housingdevelopers.org//NONSGML kigkonsult.se iCalcreator 2.30.10/
 /
CALSCALE:GREGORIAN
METHOD:PUBLISH
UID:f6301cf6-ea43-430a-9fe1-79347b5cf385
X-WR-CALDESC:
X-WR-RELCALID:79a41907f805746fc9dcfe3b43ba3ee2
X-WR-TIMEZONE:America/Chicago
BEGIN:VTIMEZONE
TZID:America/Chicago
BEGIN:STANDARD
TZNAME:CST
DTSTART:20151101T020000
TZOFFSETFROM:-0500
TZOFFSETTO:-0600
RDATE:20161106T020000
RDATE:20171105T020000
END:STANDARD
BEGIN:DAYLIGHT
TZNAME:CDT
DTSTART:20160313T020000
TZOFFSETFROM:-0600
TZOFFSETTO:-0500
RDATE:20170312T020000
END:DAYLIGHT
END:VTIMEZONE
BEGIN:VEVENT
UID:ce34fb96-5d36-4d65-953f-6490321dc9f3
DTSTAMP:20260422T091117Z
DESCRIPTION:
DTSTART;TZID=America/Chicago:20160520T090000
DTEND;TZID=America/Chicago:20160520T170000
LOCATION:1811 W 2nd Street\, Suite 480 - Grand Island
SUMMARY:Housing Development Corporation
END:VEVENT
END:VCALENDAR
