BEGIN:VCALENDAR
VERSION:2.0
PRODID:-//housingdevelopers.org//NONSGML kigkonsult.se iCalcreator 2.30.10/
 /
CALSCALE:GREGORIAN
METHOD:PUBLISH
UID:95f7f57c-7731-4c37-9a4a-06b08aa436ba
X-WR-CALDESC:Must Attend May 17th & 19th.
X-WR-RELCALID:9a1889928c0d487c18d5436d112ae698
X-WR-TIMEZONE:America/Chicago
BEGIN:VTIMEZONE
TZID:America/Chicago
BEGIN:STANDARD
TZNAME:CST
DTSTART:20151101T020000
TZOFFSETFROM:-0500
TZOFFSETTO:-0600
RDATE:20161106T020000
RDATE:20171105T020000
END:STANDARD
BEGIN:DAYLIGHT
TZNAME:CDT
DTSTART:20160313T020000
TZOFFSETFROM:-0600
TZOFFSETTO:-0500
RDATE:20170312T020000
END:DAYLIGHT
END:VTIMEZONE
BEGIN:VEVENT
UID:3cb1ad8b-74fb-458c-bdbd-c811bec43f33
DTSTAMP:20260422T090912Z
DESCRIPTION:Must Attend May 17th & 19th.
DTSTART;TZID=America/Chicago:20160517T180000
DTEND;TZID=America/Chicago:20160517T220000
LOCATION:Lifelong Learning Center\, NECC - Norfolk
SUMMARY:NeighborWorks Northeast Nebraska
END:VEVENT
END:VCALENDAR
