BEGIN:VCALENDAR
VERSION:2.0
PRODID:-//housingdevelopers.org//NONSGML kigkonsult.se iCalcreator 2.30.10/
 /
CALSCALE:GREGORIAN
METHOD:PUBLISH
UID:e3b8b26c-283d-442e-85c2-8791cfae02e0
X-WR-CALDESC:The cost for the workshop manual is $25\, which each household
  must purchase.\n\nRegistration Deadline May 2nd.\n\nMust attend May 16\, 
 17 & 23.
X-WR-RELCALID:43be0eff268438b440cd7522cbb967ba
X-WR-TIMEZONE:America/Chicago
BEGIN:VTIMEZONE
TZID:America/Chicago
BEGIN:STANDARD
TZNAME:CST
DTSTART:20151101T020000
TZOFFSETFROM:-0500
TZOFFSETTO:-0600
RDATE:20161106T020000
RDATE:20171105T020000
END:STANDARD
BEGIN:DAYLIGHT
TZNAME:CDT
DTSTART:20160313T020000
TZOFFSETFROM:-0600
TZOFFSETTO:-0500
RDATE:20170312T020000
END:DAYLIGHT
END:VTIMEZONE
BEGIN:VEVENT
UID:89bd525a-346d-4f7e-9199-76178c7636c5
DTSTAMP:20260422T085922Z
DESCRIPTION:The cost for the workshop manual is $25\, which each household 
 must purchase.\n\nRegistration Deadline May 2nd.\n\nMust attend May 16\, 1
 7 & 23.
DTSTART;TZID=America/Chicago:20160516T180000
DTEND;TZID=America/Chicago:20160516T220000
LOCATION:Habitat for Humanity\, 1228 South Main Street - Council Bluffs
SUMMARY:Family Housing Advisory Services\, Inc.
END:VEVENT
END:VCALENDAR
