BEGIN:VCALENDAR
VERSION:2.0
PRODID:-//housingdevelopers.org//NONSGML kigkonsult.se iCalcreator 2.30.10/
 /
CALSCALE:GREGORIAN
METHOD:PUBLISH
UID:622d5ae3-0add-42c3-9d0e-cc946b52116d
X-WR-CALDESC:Must attend April 26th & 28th.
X-WR-RELCALID:7a6d54731c89ea6d0bd73ab935bd5ac3
X-WR-TIMEZONE:America/Chicago
BEGIN:VTIMEZONE
TZID:America/Chicago
BEGIN:STANDARD
TZNAME:CST
DTSTART:20151101T020000
TZOFFSETFROM:-0500
TZOFFSETTO:-0600
RDATE:20161106T020000
END:STANDARD
BEGIN:DAYLIGHT
TZNAME:CDT
DTSTART:20160313T020000
TZOFFSETFROM:-0600
TZOFFSETTO:-0500
RDATE:20170312T020000
END:DAYLIGHT
END:VTIMEZONE
BEGIN:VEVENT
UID:65fd4271-6fd4-42ab-831c-cf96ffe550fb
DTSTAMP:20260422T091502Z
DESCRIPTION:Must attend April 26th & 28th.
DTSTART;TZID=America/Chicago:20160428T180000
DTEND;TZID=America/Chicago:20160428T220000
LOCATION:Wayne Auditorium\, 3rd & Pearl Streets - Wayne
SUMMARY:Wayne Community Housing Development Corporation
END:VEVENT
END:VCALENDAR
