BEGIN:VCALENDAR
VERSION:2.0
PRODID:-//housingdevelopers.org//NONSGML kigkonsult.se iCalcreator 2.30.10/
 /
CALSCALE:GREGORIAN
METHOD:PUBLISH
UID:e2a4dfd5-66ce-40a4-8863-108c4739a268
X-WR-CALDESC:Must attend April 26th & 28th.
X-WR-RELCALID:5335899c1b98a4df1935c56d4ef41a58
X-WR-TIMEZONE:America/Chicago
BEGIN:VTIMEZONE
TZID:America/Chicago
BEGIN:STANDARD
TZNAME:CST
DTSTART:20151101T020000
TZOFFSETFROM:-0500
TZOFFSETTO:-0600
RDATE:20161106T020000
END:STANDARD
BEGIN:DAYLIGHT
TZNAME:CDT
DTSTART:20160313T020000
TZOFFSETFROM:-0600
TZOFFSETTO:-0500
RDATE:20170312T020000
END:DAYLIGHT
END:VTIMEZONE
BEGIN:VEVENT
UID:75e70afa-2cc0-44ae-80ff-a24c3fc0f8a3
DTSTAMP:20260422T090701Z
DESCRIPTION:Must attend April 26th & 28th.
DTSTART;TZID=America/Chicago:20160426T180000
DTEND;TZID=America/Chicago:20160426T220000
LOCATION:Wayne Auditorium\, 3rd & Pearl Streets - Wayne
SUMMARY:Wayne Community Housing Development Corporation
END:VEVENT
END:VCALENDAR
