BEGIN:VCALENDAR
VERSION:2.0
PRODID:-//housingdevelopers.org//NONSGML kigkonsult.se iCalcreator 2.30.10/
 /
CALSCALE:GREGORIAN
METHOD:PUBLISH
UID:ff5e99b6-d2c8-4f91-8d4a-10eab5c8ad2e
X-WR-CALDESC:Must attend April 14th & 21st.
X-WR-RELCALID:aa2177de19fb9b26b9f3bb1200835cab
X-WR-TIMEZONE:America/Chicago
BEGIN:VTIMEZONE
TZID:America/Chicago
BEGIN:STANDARD
TZNAME:CST
DTSTART:20151101T020000
TZOFFSETFROM:-0500
TZOFFSETTO:-0600
RDATE:20161106T020000
END:STANDARD
BEGIN:DAYLIGHT
TZNAME:CDT
DTSTART:20160313T020000
TZOFFSETFROM:-0600
TZOFFSETTO:-0500
RDATE:20170312T020000
END:DAYLIGHT
END:VTIMEZONE
BEGIN:VEVENT
UID:ee2abc70-700c-45bc-b944-be180a1996e4
DTSTAMP:20260422T085043Z
DESCRIPTION:Must attend April 14th & 21st.
DTSTART;TZID=America/Chicago:20160421T180000
DTEND;TZID=America/Chicago:20160421T220000
LOCATION:O'Neill
SUMMARY:Central Nebraska Housing Developers
END:VEVENT
END:VCALENDAR
