BEGIN:VCALENDAR
VERSION:2.0
PRODID:-//housingdevelopers.org//NONSGML kigkonsult.se iCalcreator 2.30.10/
 /
CALSCALE:GREGORIAN
METHOD:PUBLISH
UID:f6fe783c-7e53-44dd-9d3a-f3df17f1d7d2
X-WR-CALDESC:Must attend April 11\, 13\, 18 & 20.
X-WR-RELCALID:62e0a58bca4838353aad513a5bb4acb7
X-WR-TIMEZONE:America/Chicago
BEGIN:VTIMEZONE
TZID:America/Chicago
BEGIN:STANDARD
TZNAME:CST
DTSTART:20151101T020000
TZOFFSETFROM:-0500
TZOFFSETTO:-0600
RDATE:20161106T020000
END:STANDARD
BEGIN:DAYLIGHT
TZNAME:CDT
DTSTART:20160313T020000
TZOFFSETFROM:-0600
TZOFFSETTO:-0500
RDATE:20170312T020000
END:DAYLIGHT
END:VTIMEZONE
BEGIN:VEVENT
UID:9377aaae-ee60-4d8c-987a-b94c28d8e700
DTSTAMP:20260422T085755Z
DESCRIPTION:Must attend April 11\, 13\, 18 & 20.
DTSTART;TZID=America/Chicago:20160420T180000
DTEND;TZID=America/Chicago:20160420T203000
LOCATION:2240 Q Street - Lincoln
SUMMARY:NeighborWorks Lincoln
END:VEVENT
END:VCALENDAR
