BEGIN:VCALENDAR
VERSION:2.0
PRODID:-//housingdevelopers.org//NONSGML kigkonsult.se iCalcreator 2.30.10/
 /
CALSCALE:GREGORIAN
METHOD:PUBLISH
UID:a41a863f-d601-4278-9224-e11cf36d27cd
X-WR-CALDESC:Must attend April 11\, 13\, 18 & 20.
X-WR-RELCALID:ce5de5f0069b718fca3bf971652e411f
X-WR-TIMEZONE:America/Chicago
BEGIN:VTIMEZONE
TZID:America/Chicago
BEGIN:STANDARD
TZNAME:CST
DTSTART:20151101T020000
TZOFFSETFROM:-0500
TZOFFSETTO:-0600
RDATE:20161106T020000
END:STANDARD
BEGIN:DAYLIGHT
TZNAME:CDT
DTSTART:20160313T020000
TZOFFSETFROM:-0600
TZOFFSETTO:-0500
RDATE:20170312T020000
END:DAYLIGHT
END:VTIMEZONE
BEGIN:VEVENT
UID:4a9b7b3d-1aa5-498e-9bae-94902c77ef00
DTSTAMP:20260424T083139Z
DESCRIPTION:Must attend April 11\, 13\, 18 & 20.
DTSTART;TZID=America/Chicago:20160418T180000
DTEND;TZID=America/Chicago:20160418T200000
LOCATION:2240 Q Street - Lincoln
SUMMARY:NeighborWorks Lincoln
END:VEVENT
END:VCALENDAR
