BEGIN:VCALENDAR
VERSION:2.0
PRODID:-//housingdevelopers.org//NONSGML kigkonsult.se iCalcreator 2.30.10/
 /
CALSCALE:GREGORIAN
METHOD:PUBLISH
UID:815e1ca2-3721-4244-a91e-f36a862fddd8
X-WR-CALDESC:
X-WR-RELCALID:b345036e8cedf9942590e2458f1f3b44
X-WR-TIMEZONE:America/Chicago
BEGIN:VTIMEZONE
TZID:America/Chicago
BEGIN:STANDARD
TZNAME:CST
DTSTART:20151101T020000
TZOFFSETFROM:-0500
TZOFFSETTO:-0600
RDATE:20161106T020000
END:STANDARD
BEGIN:DAYLIGHT
TZNAME:CDT
DTSTART:20160313T020000
TZOFFSETFROM:-0600
TZOFFSETTO:-0500
RDATE:20170312T020000
END:DAYLIGHT
END:VTIMEZONE
BEGIN:VEVENT
UID:8be8d07a-02d3-4b95-ba30-9720fe9d3e8d
DTSTAMP:20260422T085935Z
DESCRIPTION:
DTSTART;TZID=America/Chicago:20160416T080000
DTEND;TZID=America/Chicago:20160416T170000
LOCATION:2554 40th Avenue - Columbus
SUMMARY:NeighborWorks Northeast Nebraska
END:VEVENT
END:VCALENDAR
