BEGIN:VCALENDAR
VERSION:2.0
PRODID:-//housingdevelopers.org//NONSGML kigkonsult.se iCalcreator 2.30.10/
 /
CALSCALE:GREGORIAN
METHOD:PUBLISH
UID:de0a5dd0-35e1-46ba-83da-f13d2e29d62d
X-WR-CALDESC:The cost for the workshop manual is $25\, which each household
  must purchase.\n\nRegistration Deadline April 8th.
X-WR-RELCALID:853285aafa7beb124a6472eb03cf441d
X-WR-TIMEZONE:America/Chicago
BEGIN:VTIMEZONE
TZID:America/Chicago
BEGIN:STANDARD
TZNAME:CST
DTSTART:20151101T020000
TZOFFSETFROM:-0500
TZOFFSETTO:-0600
RDATE:20161106T020000
END:STANDARD
BEGIN:DAYLIGHT
TZNAME:CDT
DTSTART:20160313T020000
TZOFFSETFROM:-0600
TZOFFSETTO:-0500
RDATE:20170312T020000
END:DAYLIGHT
END:VTIMEZONE
BEGIN:VEVENT
UID:f907323f-4963-4206-9f8e-7fb5b30e9cf4
DTSTAMP:20260422T090038Z
DESCRIPTION:The cost for the workshop manual is $25\, which each household 
 must purchase.\n\nRegistration Deadline April 8th.
DTSTART;TZID=America/Chicago:20160416T080000
DTEND;TZID=America/Chicago:20160416T170000
LOCATION:Family Housing (Main Office)\, 2401 Lake Street - Omaha
SUMMARY:Family Housing Advisory Services\, Inc.
END:VEVENT
END:VCALENDAR
