BEGIN:VCALENDAR
VERSION:2.0
PRODID:-//housingdevelopers.org//NONSGML kigkonsult.se iCalcreator 2.30.10/
 /
CALSCALE:GREGORIAN
METHOD:PUBLISH
UID:56248061-4523-4183-83a4-f7ffeb76136e
X-WR-CALDESC:
X-WR-RELCALID:a94e5b7db5c9456c4e5d2a6a58e1efbd
X-WR-TIMEZONE:America/Chicago
BEGIN:VTIMEZONE
TZID:America/Chicago
BEGIN:STANDARD
TZNAME:CST
DTSTART:20151101T020000
TZOFFSETFROM:-0500
TZOFFSETTO:-0600
RDATE:20161106T020000
END:STANDARD
BEGIN:DAYLIGHT
TZNAME:CDT
DTSTART:20160313T020000
TZOFFSETFROM:-0600
TZOFFSETTO:-0500
RDATE:20170312T020000
END:DAYLIGHT
END:VTIMEZONE
BEGIN:VEVENT
UID:3dbc08ce-f8c1-456a-a8e6-a53c87293b14
DTSTAMP:20260424T083144Z
DESCRIPTION:
DTSTART;TZID=America/Chicago:20160415T090000
DTEND;TZID=America/Chicago:20160415T170000
LOCATION:1811 W 2nd Street\, Suite 480 - Grand Island
SUMMARY:Housing Development Corporation
END:VEVENT
END:VCALENDAR
