BEGIN:VCALENDAR
VERSION:2.0
PRODID:-//housingdevelopers.org//NONSGML kigkonsult.se iCalcreator 2.30.10/
 /
CALSCALE:GREGORIAN
METHOD:PUBLISH
UID:b4841df0-ba47-4529-bd76-dc7f97c6b0be
X-WR-CALDESC:Must attend April 14th & 21st.
X-WR-RELCALID:feb8a1d8150371be2904695a53c39631
X-WR-TIMEZONE:America/Chicago
BEGIN:VTIMEZONE
TZID:America/Chicago
BEGIN:STANDARD
TZNAME:CST
DTSTART:20151101T020000
TZOFFSETFROM:-0500
TZOFFSETTO:-0600
RDATE:20161106T020000
END:STANDARD
BEGIN:DAYLIGHT
TZNAME:CDT
DTSTART:20160313T020000
TZOFFSETFROM:-0600
TZOFFSETTO:-0500
RDATE:20170312T020000
END:DAYLIGHT
END:VTIMEZONE
BEGIN:VEVENT
UID:2e2e5d71-e361-4cfb-95cb-6b8a2f868b57
DTSTAMP:20260422T091051Z
DESCRIPTION:Must attend April 14th & 21st.
DTSTART;TZID=America/Chicago:20160414T180000
DTEND;TZID=America/Chicago:20160414T220000
LOCATION:O'Neill
SUMMARY:Central Nebraska Housing Developers
END:VEVENT
END:VCALENDAR
