BEGIN:VCALENDAR
VERSION:2.0
PRODID:-//housingdevelopers.org//NONSGML kigkonsult.se iCalcreator 2.30.10/
 /
CALSCALE:GREGORIAN
METHOD:PUBLISH
UID:30e88833-b7e1-41f3-b0e5-b8569c17d3f7
X-WR-CALDESC:Must attend April 11\, 13\, 18 & 20.
X-WR-RELCALID:e9bebafaa5e3479ea8521de62e222f32
X-WR-TIMEZONE:America/Chicago
BEGIN:VTIMEZONE
TZID:America/Chicago
BEGIN:STANDARD
TZNAME:CST
DTSTART:20151101T020000
TZOFFSETFROM:-0500
TZOFFSETTO:-0600
RDATE:20161106T020000
END:STANDARD
BEGIN:DAYLIGHT
TZNAME:CDT
DTSTART:20160313T020000
TZOFFSETFROM:-0600
TZOFFSETTO:-0500
RDATE:20170312T020000
END:DAYLIGHT
END:VTIMEZONE
BEGIN:VEVENT
UID:16d3fbdd-e22d-481a-b296-acf98263453a
DTSTAMP:20260422T090038Z
DESCRIPTION:Must attend April 11\, 13\, 18 & 20.
DTSTART;TZID=America/Chicago:20160413T180000
DTEND;TZID=America/Chicago:20160413T200000
LOCATION:2240 Q Street - Lincoln
SUMMARY:NeighborWorks Lincoln
END:VEVENT
END:VCALENDAR
