BEGIN:VCALENDAR
VERSION:2.0
PRODID:-//housingdevelopers.org//NONSGML kigkonsult.se iCalcreator 2.30.10/
 /
CALSCALE:GREGORIAN
METHOD:PUBLISH
UID:1ed2b18b-4c1c-435a-b135-1b820f7a5d3e
X-WR-CALDESC:Must attend April 11\, 13\, 18 & 20.
X-WR-RELCALID:5f6c1a6515017c4041f7137b1c1ab80f
X-WR-TIMEZONE:America/Chicago
BEGIN:VTIMEZONE
TZID:America/Chicago
BEGIN:STANDARD
TZNAME:CST
DTSTART:20151101T020000
TZOFFSETFROM:-0500
TZOFFSETTO:-0600
RDATE:20161106T020000
END:STANDARD
BEGIN:DAYLIGHT
TZNAME:CDT
DTSTART:20160313T020000
TZOFFSETFROM:-0600
TZOFFSETTO:-0500
RDATE:20170312T020000
END:DAYLIGHT
END:VTIMEZONE
BEGIN:VEVENT
UID:9cfd47a0-287a-4d36-8c6d-69c233d0bdd9
DTSTAMP:20260422T085736Z
DESCRIPTION:Must attend April 11\, 13\, 18 & 20.
DTSTART;TZID=America/Chicago:20160411T180000
DTEND;TZID=America/Chicago:20160411T200000
LOCATION:2240 Q Street - Lincoln
SUMMARY:NeighborWorks Lincoln
END:VEVENT
END:VCALENDAR
