BEGIN:VCALENDAR
VERSION:2.0
PRODID:-//housingdevelopers.org//NONSGML kigkonsult.se iCalcreator 2.30.10/
 /
CALSCALE:GREGORIAN
METHOD:PUBLISH
UID:8dbf4c57-ffa4-4d8e-8526-73369c443dd2
X-WR-CALDESC:Fee is $35.  Applications and fees are due no later than one w
 eek before a scheduled class.
X-WR-RELCALID:d6c3e6816216a4d3977fb39d66902605
X-WR-TIMEZONE:America/Chicago
BEGIN:VTIMEZONE
TZID:America/Chicago
BEGIN:STANDARD
TZNAME:CST
DTSTART:20151101T020000
TZOFFSETFROM:-0500
TZOFFSETTO:-0600
RDATE:20161106T020000
END:STANDARD
BEGIN:DAYLIGHT
TZNAME:CDT
DTSTART:20160313T020000
TZOFFSETFROM:-0600
TZOFFSETTO:-0500
RDATE:20170312T020000
END:DAYLIGHT
END:VTIMEZONE
BEGIN:VEVENT
UID:87afcb12-7c85-49f3-9659-d066fb452ca8
DTSTAMP:20260424T085006Z
DESCRIPTION:Fee is $35.  Applications and fees are due no later than one we
 ek before a scheduled class.
DTSTART;TZID=America/Chicago:20160405T090000
DTEND;TZID=America/Chicago:20160405T173000
LOCATION:Nemaha County Hospital\, 2022 13th Street - Auburn
SUMMARY:Southeast Nebraska Community Action Partnership
END:VEVENT
END:VCALENDAR
